BEGIN:VCALENDAR
VERSION:2.0
PRODID:-//hacksw/handcal//NONSGML v1.0//EN
CALSCALE:GREGORIAN
BEGIN:VEVENT
UID:Scheune-Veranstaltungen-5506
URL;VALUE=URI:https://scheune.org/show/5506/femi-luna.html
SUMMARY:Femi Luna
DTSTART:20260930T180000Z
DTEND:20260930T200000Z
LOCATION:scheune\, Alaunstrasse  36-40\, 01099 Dresden
DESCRIPTION:Konzert\nSongwriting mit Stille\, Rhythmus und gezielten Lücken
DTSTAMP:20260422T135730Z
END:VEVENT
END:VCALENDAR