BEGIN:VCALENDAR
VERSION:2.0
PRODID:-//hacksw/handcal//NONSGML v1.0//EN
CALSCALE:GREGORIAN
BEGIN:VEVENT
UID:Scheune-Veranstaltungen-5529
URL;VALUE=URI:https://scheune.org/show/5529/luca-vasta.html
SUMMARY:Luca Vasta
DTSTART:20270227T190000Z
DTEND:20270227T213000Z
LOCATION:scheune\, Alaunstrasse  36-40\, 01099 Dresden
DESCRIPTION:Konzert\n"Disco Mare" Tour
DTSTAMP:20260421T184246Z
END:VEVENT
END:VCALENDAR