BEGIN:VCALENDAR
VERSION:2.0
PRODID:-//hacksw/handcal//NONSGML v1.0//EN
CALSCALE:GREGORIAN
BEGIN:VEVENT
UID:Scheune-Veranstaltungen-5549
URL;VALUE=URI:https://scheune.org/show/5549/regio-tales.html
SUMMARY:Regio Tales
DTSTART:20260515T180000Z
DTEND:20260515T200000Z
LOCATION:Zilles Anker
DESCRIPTION:
DTSTAMP:20260420T133028Z
END:VEVENT
END:VCALENDAR