BEGIN:VCALENDAR
VERSION:2.0
PRODID:-//hacksw/handcal//NONSGML v1.0//EN
CALSCALE:GREGORIAN
BEGIN:VEVENT
UID:Scheune-Veranstaltungen-5560
URL;VALUE=URI:https://scheune.org/show/5560/sazn-montuno.html
SUMMARY:Sazón Montuno
DTSTART:20260511T173000Z
DTEND:20260511T193000Z
LOCATION:scheune Vorplatz
DESCRIPTION:Salsa auf dem Vorplatz der scheune
DTSTAMP:20260425T013410Z
END:VEVENT
END:VCALENDAR